BEGIN:VCALENDAR
VERSION:2.0
PRODID:icalendar-ruby
CALSCALE:GREGORIAN
METHOD:PUBLISH
BEGIN:VEVENT
DTSTAMP:20260422T014916Z
UID:20-685859@livingstonesta.org
DTSTART:20261015T170000Z
DTEND:20261015T180000Z
CLASS:PUBLIC
CREATED:20260421T211703
DESCRIPTION:Led by Dee Sutton\, all women are welcome to join a study on th
 e Women of the Bible along with food and fellowship. 
LAST-MODIFIED:20260421T211703
LOCATION:
SUMMARY:Women's Afternoon Bible Study
URL;VALUE=URI:https://livingstonesta.org/events/womens-afternoon-bible-stud
 y/2026-10-15
END:VEVENT
END:VCALENDAR
