BEGIN:VCALENDAR
VERSION:2.0
PRODID:icalendar-ruby
CALSCALE:GREGORIAN
METHOD:PUBLISH
BEGIN:VEVENT
DTSTAMP:20260423T220809Z
UID:17-692348@livingstonesta.org
DTSTART:20261102T224500Z
DTEND:20261102T234500Z
CLASS:PUBLIC
CREATED:20260423T170850
DESCRIPTION:Monday Men's Bible Study
LAST-MODIFIED:20260423T170850
LOCATION:Kookaburra Dondi 4265 A1A South A Street St. Augustine\, FL
SUMMARY:Monday Men's Bible Study
URL;VALUE=URI:https://livingstonesta.org/events/monday-mens-bible-study--16
 /2026-11-02
END:VEVENT
END:VCALENDAR
