BEGIN:VCALENDAR
VERSION:2.0
PRODID:icalendar-ruby
CALSCALE:GREGORIAN
METHOD:PUBLISH
BEGIN:VEVENT
DTSTAMP:20260423T145545Z
UID:17-690368@livingstonesta.org
DTSTART:20260928T214500Z
DTEND:20260928T224500Z
CLASS:PUBLIC
CREATED:20260423T082444
DESCRIPTION:Monday Men's Bible Study
LAST-MODIFIED:20260423T082444
LOCATION:Kookaburra Dondi 4265 A1A South A Street St. Augustine\, FL
SUMMARY:Monday Men's Bible Study
URL;VALUE=URI:https://livingstonesta.org/events/monday-mens-bible-study--16
 /2026-09-28
END:VEVENT
END:VCALENDAR
