BEGIN:VCALENDAR
VERSION:2.0
PRODID:icalendar-ruby
CALSCALE:GREGORIAN
METHOD:PUBLISH
BEGIN:VEVENT
DTSTAMP:20260423T120059Z
UID:17-689708@livingstonesta.org
DTSTART:20260914T214500Z
DTEND:20260914T224500Z
CLASS:PUBLIC
CREATED:20260422T225429
DESCRIPTION:Monday Men's Bible Study
LAST-MODIFIED:20260422T225429
LOCATION:Kookaburra Dondi 4265 A1A South A Street St. Augustine\, FL
SUMMARY:Monday Men's Bible Study
URL;VALUE=URI:https://livingstonesta.org/events/monday-mens-bible-study--16
 /2026-09-14
END:VEVENT
END:VCALENDAR
