BEGIN:VCALENDAR
VERSION:2.0
PRODID:icalendar-ruby
CALSCALE:GREGORIAN
METHOD:PUBLISH
BEGIN:VEVENT
DTSTAMP:20260421T012054Z
UID:17-681860@livingstonesta.org
DTSTART:20260831T214500Z
DTEND:20260831T224500Z
CLASS:PUBLIC
CREATED:20260420T210154
DESCRIPTION:Monday Men's Bible Study
LAST-MODIFIED:20260420T210154
LOCATION:Kookaburra Dondi 4265 A1A South A Street St. Augustine\, FL
SUMMARY:Monday Men's Bible Study
URL;VALUE=URI:https://livingstonesta.org/events/monday-mens-bible-study--16
 /2026-08-31
END:VEVENT
END:VCALENDAR
