BEGIN:VCALENDAR
VERSION:2.0
PRODID:icalendar-ruby
CALSCALE:GREGORIAN
METHOD:PUBLISH
BEGIN:VEVENT
DTSTAMP:20260420T233218Z
UID:17-681207@livingstonesta.org
DTSTART:20260824T214500Z
DTEND:20260824T224500Z
CLASS:PUBLIC
CREATED:20260420T182705
DESCRIPTION:Monday Men's Bible Study
LAST-MODIFIED:20260420T182705
LOCATION:Kookaburra Dondi 4265 A1A South A Street St. Augustine\, FL
SUMMARY:Monday Men's Bible Study
URL;VALUE=URI:https://livingstonesta.org/events/monday-mens-bible-study--16
 /2026-08-24
END:VEVENT
END:VCALENDAR
