BEGIN:VCALENDAR
VERSION:2.0
PRODID:icalendar-ruby
CALSCALE:GREGORIAN
METHOD:PUBLISH
BEGIN:VEVENT
DTSTAMP:20260419T162757Z
UID:23-675035@livingstonesta.org
DTSTART:20261021T223000Z
DTEND:20261021T233000Z
CLASS:PUBLIC
CREATED:20260419T090350
DESCRIPTION:Led by Elder Bill Boggess with a time for fellowship and a fast
 -paced teaching of different books from the Bible. 
LAST-MODIFIED:20260419T090350
LOCATION:
SUMMARY:Boggess Wednesday Small Group
URL;VALUE=URI:https://livingstonesta.org/events/boggess-wednesday-small-gro
 up/2026-10-21
END:VEVENT
END:VCALENDAR
